BEGIN:VCALENDAR
VERSION:2.0
PRODID:-//ChamberMaster//Event Calendar 2.0//EN
METHOD:PUBLISH
X-PUBLISHED-TTL:P1H
REFRESH-INTERVAL:P1H
CALSCALE:GREGORIAN
BEGIN:VTIMEZONE
TZID:America/Chicago
BEGIN:DAYLIGHT
RRULE:FREQ=YEARLY;BYMONTH=3;BYDAY=2SU
DTSTART:20070101T000000
TZOFFSETFROM:-0600
TZOFFSETTO:-0500
TZNAME:Central Daylight Time
END:DAYLIGHT
BEGIN:STANDARD
RRULE:FREQ=YEARLY;BYMONTH=11;BYDAY=1SU
DTSTART:20070101T000000
TZOFFSETFROM:-0500
TZOFFSETTO:-0600
TZNAME:Central Standard Time
END:STANDARD
END:VTIMEZONE
BEGIN:VEVENT
DTSTART;TZID=America/Chicago:20260418T130000
DTEND;TZID=America/Chicago:20260418T140000
X-MICROSOFT-CDO-ALLDAYEVENT:FALSE
SUMMARY:Home Buyer Seminar - Assurance Financial
DESCRIPTION:We will be covering all you need to know about home buying and providing onsite consultations. Whether you are ready to buy today\, or you have no idea where to even start this event is for you. We will get there and help you find your home. \n\n*Open to the Public
X-ALT-DESC;FMTTYPE=text/html:We will be covering all you need to know about home buying and providing onsite consultations. Whether you are ready to buy today\, or you have no idea where to even start this event is for you. We will get there and help you find your home. \n\n*Open to the Public
LOCATION:63 South Court Square Troy AL 36081
UID:e.2014.1442928
SEQUENCE:3
DTSTAMP:20260420T183304Z
URL:https://business.pikecoc.com/communitycalendar/Details/home-buyer-seminar-assurance-financial-1709024?sourceTypeId=Hub
END:VEVENT
END:VCALENDAR
